BEGIN:VCALENDAR
VERSION:2.0
PRODID:-//PTA Atlantis - ECPv6.3.3.1//NONSGML v1.0//EN
CALSCALE:GREGORIAN
METHOD:PUBLISH
X-ORIGINAL-URL:https://ptaatlantis.ch
X-WR-CALDESC:Veranstaltungen für PTA Atlantis
REFRESH-INTERVAL;VALUE=DURATION:PT1H
X-Robots-Tag:noindex
X-PUBLISHED-TTL:PT1H
BEGIN:VTIMEZONE
TZID:Europe/Paris
BEGIN:DAYLIGHT
TZOFFSETFROM:+0100
TZOFFSETTO:+0200
TZNAME:CEST
DTSTART:20260329T010000
END:DAYLIGHT
BEGIN:STANDARD
TZOFFSETFROM:+0200
TZOFFSETTO:+0100
TZNAME:CET
DTSTART:20261025T010000
END:STANDARD
END:VTIMEZONE
BEGIN:VEVENT
DTSTART;TZID=Europe/Paris:20260110T140000
DTEND;TZID=Europe/Paris:20260110T163000
DTSTAMP:20260421T100750
CREATED:20260102T130400Z
LAST-MODIFIED:20260102T130400Z
UID:1750-1768053600-1768062600@ptaatlantis.ch
SUMMARY:Aktivität
DESCRIPTION:
URL:https://ptaatlantis.ch/event/aktivitaet-18/
LOCATION:Lindspitz\, Schweiz
CATEGORIES:Meute Atlas,Trupp Titan
END:VEVENT
BEGIN:VEVENT
DTSTART;TZID=Europe/Paris:20260117T140000
DTEND;TZID=Europe/Paris:20260117T163000
DTSTAMP:20260421T100750
CREATED:20260102T130443Z
LAST-MODIFIED:20260102T130739Z
UID:1752-1768658400-1768667400@ptaatlantis.ch
SUMMARY:Aktivität
DESCRIPTION:
URL:https://ptaatlantis.ch/event/aktivitaet-19/
LOCATION:Waldheim\, Schweiz
CATEGORIES:Meute Atlas,Trupp Titan
END:VEVENT
BEGIN:VEVENT
DTSTART;TZID=Europe/Paris:20260124T110000
DTEND;TZID=Europe/Paris:20260124T133000
DTSTAMP:20260421T100750
CREATED:20260102T130613Z
LAST-MODIFIED:20260102T130719Z
UID:1754-1769252400-1769261400@ptaatlantis.ch
SUMMARY:Kochaktivität
DESCRIPTION:Mitnehmen: Ess- und Trinkgeschirr\, Besteck
URL:https://ptaatlantis.ch/event/kochaktivitaet-6/
LOCATION:Bushaltestelle Schützenbühl (Seen)
CATEGORIES:Meute Atlas,Trupp Titan
END:VEVENT
END:VCALENDAR