BEGIN:VCALENDAR
VERSION:2.0
PRODID:-//PTA Atlantis - ECPv6.3.3.1//NONSGML v1.0//EN
CALSCALE:GREGORIAN
METHOD:PUBLISH
X-WR-CALNAME:PTA Atlantis
X-ORIGINAL-URL:https://ptaatlantis.ch
X-WR-CALDESC:Veranstaltungen für PTA Atlantis
REFRESH-INTERVAL;VALUE=DURATION:PT1H
X-Robots-Tag:noindex
X-PUBLISHED-TTL:PT1H
BEGIN:VTIMEZONE
TZID:Europe/Paris
BEGIN:DAYLIGHT
TZOFFSETFROM:+0100
TZOFFSETTO:+0200
TZNAME:CEST
DTSTART:20250330T010000
END:DAYLIGHT
BEGIN:STANDARD
TZOFFSETFROM:+0200
TZOFFSETTO:+0100
TZNAME:CET
DTSTART:20251026T010000
END:STANDARD
END:VTIMEZONE
BEGIN:VEVENT
DTSTART;VALUE=DATE:20251101
DTEND;VALUE=DATE:20251102
DTSTAMP:20260423T173456
CREATED:20251020T123153Z
LAST-MODIFIED:20251020T123218Z
UID:1714-1761955200-1762041599@ptaatlantis.ch
SUMMARY:Keine Pfadi
DESCRIPTION:
URL:https://ptaatlantis.ch/event/keine-pfadi/
CATEGORIES:Meute Atlas,Trupp Titan
END:VEVENT
BEGIN:VEVENT
DTSTART;TZID=Europe/Paris:20251108T140000
DTEND;TZID=Europe/Paris:20251108T163000
DTSTAMP:20260423T173456
CREATED:20251020T123347Z
LAST-MODIFIED:20251020T123347Z
UID:1716-1762610400-1762619400@ptaatlantis.ch
SUMMARY:Aktivität
DESCRIPTION:Rotation der Leitpersonen
URL:https://ptaatlantis.ch/event/aktivitaet-17/
LOCATION:Lindspitz\, Schweiz
CATEGORIES:Meute Atlas,Trupp Titan
END:VEVENT
BEGIN:VEVENT
DTSTART;TZID=Europe/Paris:20251115T110000
DTEND;TZID=Europe/Paris:20251115T140000
DTSTAMP:20260423T173456
CREATED:20251020T123635Z
LAST-MODIFIED:20251020T123703Z
UID:1718-1763204400-1763215200@ptaatlantis.ch
SUMMARY:Kochaktivität
DESCRIPTION:Essgeschirr und Tupperware mitnehmen
URL:https://ptaatlantis.ch/event/kochaktivitaet-5/
LOCATION:Bettenplatz\, Schweiz
CATEGORIES:Meute Atlas,Trupp Titan
END:VEVENT
BEGIN:VEVENT
DTSTART;VALUE=DATE:20251122
DTEND;VALUE=DATE:20251123
DTSTAMP:20260423T173456
CREATED:20251020T123752Z
LAST-MODIFIED:20251020T123752Z
UID:1720-1763769600-1763855999@ptaatlantis.ch
SUMMARY:Keine Pfadi
DESCRIPTION:
URL:https://ptaatlantis.ch/event/keine-pfadi-2/
CATEGORIES:Meute Atlas,Trupp Titan
END:VEVENT
BEGIN:VEVENT
DTSTART;TZID=Europe/Paris:20251129T170000
DTEND;TZID=Europe/Paris:20251129T193000
DTSTAMP:20260423T173456
CREATED:20251020T124020Z
LAST-MODIFIED:20251020T124100Z
UID:1722-1764435600-1764444600@ptaatlantis.ch
SUMMARY:Räbeliechtli Umzug
DESCRIPTION:Treffpunkt beim Minigolf \nWeitere Infos folgen
URL:https://ptaatlantis.ch/event/raebeliechtli-umzug/
LOCATION:Breite\, Schweiz
CATEGORIES:Meute Atlas,Trupp Titan
END:VEVENT
END:VCALENDAR