BEGIN:VCALENDAR
VERSION:2.0
PRODID:-//PTA Atlantis - ECPv6.3.3.1//NONSGML v1.0//EN
CALSCALE:GREGORIAN
METHOD:PUBLISH
X-WR-CALNAME:PTA Atlantis
X-ORIGINAL-URL:https://ptaatlantis.ch
X-WR-CALDESC:Veranstaltungen für PTA Atlantis
REFRESH-INTERVAL;VALUE=DURATION:PT1H
X-Robots-Tag:noindex
X-PUBLISHED-TTL:PT1H
BEGIN:VTIMEZONE
TZID:Europe/Paris
BEGIN:DAYLIGHT
TZOFFSETFROM:+0100
TZOFFSETTO:+0200
TZNAME:CEST
DTSTART:20240331T010000
END:DAYLIGHT
BEGIN:STANDARD
TZOFFSETFROM:+0200
TZOFFSETTO:+0100
TZNAME:CET
DTSTART:20241027T010000
END:STANDARD
END:VTIMEZONE
BEGIN:VEVENT
DTSTART;TZID=Europe/Paris:20240914T100000
DTEND;TZID=Europe/Paris:20240914T130000
DTSTAMP:20260424T061958
CREATED:20240824T062835Z
LAST-MODIFIED:20240824T062838Z
UID:1563-1726308000-1726318800@ptaatlantis.ch
SUMMARY:PTA Fest
DESCRIPTION:Info Teil gefolgt von Brunch \nIm Schützenstand Breite
URL:https://ptaatlantis.ch/event/pta-fest-2/
LOCATION:Breite\, Schweiz
CATEGORIES:Meute Atlas,Trupp Titan
END:VEVENT
BEGIN:VEVENT
DTSTART;VALUE=DATE:20240921
DTEND;VALUE=DATE:20240922
DTSTAMP:20260424T061958
CREATED:20240824T063008Z
LAST-MODIFIED:20240824T063012Z
UID:1565-1726876800-1726963199@ptaatlantis.ch
SUMMARY:Aktivität mit der PTA Bütschgi
DESCRIPTION:Besuchsaktivität zum Anlass der 100Jahre PTA
URL:https://ptaatlantis.ch/event/aktivitaet-mit-der-pta-buetschgi/
LOCATION:Infos folgen\, Schweiz
CATEGORIES:Meute Atlas,Trupp Titan
END:VEVENT
BEGIN:VEVENT
DTSTART;TZID=Europe/Paris:20240928T140000
DTEND;TZID=Europe/Paris:20240928T163000
DTSTAMP:20260424T061958
CREATED:20240824T063100Z
LAST-MODIFIED:20240824T063104Z
UID:1567-1727532000-1727541000@ptaatlantis.ch
SUMMARY:Aktivität
DESCRIPTION:
URL:https://ptaatlantis.ch/event/aktivitaet-11/
LOCATION:Lindspitz\, Schweiz
CATEGORIES:Meute Atlas,Trupp Titan
END:VEVENT
END:VCALENDAR