BEGIN:VCALENDAR
VERSION:2.0
PRODID:-//PTA Atlantis - ECPv6.3.3.1//NONSGML v1.0//EN
CALSCALE:GREGORIAN
METHOD:PUBLISH
X-ORIGINAL-URL:https://ptaatlantis.ch
X-WR-CALDESC:Veranstaltungen für PTA Atlantis
REFRESH-INTERVAL;VALUE=DURATION:PT1H
X-Robots-Tag:noindex
X-PUBLISHED-TTL:PT1H
BEGIN:VTIMEZONE
TZID:Europe/Paris
BEGIN:DAYLIGHT
TZOFFSETFROM:+0100
TZOFFSETTO:+0200
TZNAME:CEST
DTSTART:20260329T010000
END:DAYLIGHT
BEGIN:STANDARD
TZOFFSETFROM:+0200
TZOFFSETTO:+0100
TZNAME:CET
DTSTART:20261025T010000
END:STANDARD
END:VTIMEZONE
BEGIN:VEVENT
DTSTART;TZID=Europe/Paris:20260411T130000
DTEND;TZID=Europe/Paris:20260411T170000
DTSTAMP:20260421T031225
CREATED:20260131T173646Z
LAST-MODIFIED:20260131T173646Z
UID:1771-1775912400-1775926800@ptaatlantis.ch
SUMMARY:Technorama
DESCRIPTION:
URL:https://ptaatlantis.ch/event/technorama/
LOCATION:Technorama
CATEGORIES:Meute Atlas,Trupp Titan
END:VEVENT
END:VCALENDAR