BEGIN:VCALENDAR
VERSION:2.0
PRODID:-//PTA Atlantis - ECPv6.3.3.1//NONSGML v1.0//EN
CALSCALE:GREGORIAN
METHOD:PUBLISH
X-ORIGINAL-URL:https://ptaatlantis.ch
X-WR-CALDESC:Veranstaltungen für PTA Atlantis
REFRESH-INTERVAL;VALUE=DURATION:PT1H
X-Robots-Tag:noindex
X-PUBLISHED-TTL:PT1H
BEGIN:VTIMEZONE
TZID:Europe/Paris
BEGIN:DAYLIGHT
TZOFFSETFROM:+0100
TZOFFSETTO:+0200
TZNAME:CEST
DTSTART:20260329T010000
END:DAYLIGHT
BEGIN:STANDARD
TZOFFSETFROM:+0200
TZOFFSETTO:+0100
TZNAME:CET
DTSTART:20261025T010000
END:STANDARD
END:VTIMEZONE
BEGIN:VEVENT
DTSTART;VALUE=DATE:20260228
DTEND;VALUE=DATE:20260301
DTSTAMP:20260421T063500
CREATED:20260131T173031Z
LAST-MODIFIED:20260131T173031Z
UID:1760-1772236800-1772323199@ptaatlantis.ch
SUMMARY:Keine Pfadi
DESCRIPTION:
URL:https://ptaatlantis.ch/event/keine-pfadi-3/
CATEGORIES:Meute Atlas,Trupp Titan
END:VEVENT
END:VCALENDAR