BEGIN:VCALENDAR
VERSION:2.0
PRODID:-//PTA Atlantis - ECPv6.3.3.1//NONSGML v1.0//EN
CALSCALE:GREGORIAN
METHOD:PUBLISH
X-WR-CALNAME:PTA Atlantis
X-ORIGINAL-URL:https://ptaatlantis.ch
X-WR-CALDESC:Veranstaltungen für PTA Atlantis
REFRESH-INTERVAL;VALUE=DURATION:PT1H
X-Robots-Tag:noindex
X-PUBLISHED-TTL:PT1H
BEGIN:VTIMEZONE
TZID:Europe/Paris
BEGIN:DAYLIGHT
TZOFFSETFROM:+0100
TZOFFSETTO:+0200
TZNAME:CEST
DTSTART:20250330T010000
END:DAYLIGHT
BEGIN:STANDARD
TZOFFSETFROM:+0200
TZOFFSETTO:+0100
TZNAME:CET
DTSTART:20251026T010000
END:STANDARD
END:VTIMEZONE
BEGIN:VEVENT
DTSTART;TZID=Europe/Paris:20250329T140000
DTEND;TZID=Europe/Paris:20250329T163000
DTSTAMP:20260423T172859
CREATED:20250128T183000Z
LAST-MODIFIED:20250128T183353Z
UID:1665-1743256800-1743265800@ptaatlantis.ch
SUMMARY:Aktivität
DESCRIPTION:
URL:https://ptaatlantis.ch/event/aktivitaet-15/
LOCATION:Waldheim\, Schweiz
CATEGORIES:Meute Atlas,Trupp Titan
END:VEVENT
END:VCALENDAR