BEGIN:VCALENDAR
VERSION:2.0
PRODID:-//PTA Atlantis - ECPv6.3.3.1//NONSGML v1.0//EN
CALSCALE:GREGORIAN
METHOD:PUBLISH
X-ORIGINAL-URL:https://ptaatlantis.ch
X-WR-CALDESC:Veranstaltungen für PTA Atlantis
REFRESH-INTERVAL;VALUE=DURATION:PT1H
X-Robots-Tag:noindex
X-PUBLISHED-TTL:PT1H
BEGIN:VTIMEZONE
TZID:Europe/Paris
BEGIN:DAYLIGHT
TZOFFSETFROM:+0100
TZOFFSETTO:+0200
TZNAME:CEST
DTSTART:20240331T010000
END:DAYLIGHT
BEGIN:STANDARD
TZOFFSETFROM:+0200
TZOFFSETTO:+0100
TZNAME:CET
DTSTART:20241027T010000
END:STANDARD
END:VTIMEZONE
BEGIN:VEVENT
DTSTART;TZID=Europe/Paris:20241116T120000
DTEND;TZID=Europe/Paris:20241116T180000
DTSTAMP:20260424T045444
CREATED:20241020T132807Z
LAST-MODIFIED:20241020T132807Z
UID:1634-1731758400-1731780000@ptaatlantis.ch
SUMMARY:Kantonaler PTA Tag
DESCRIPTION:Mit all den PTAs vom Kanton Züri\, 100 Jahre PTA
URL:https://ptaatlantis.ch/event/kantonaler-pta-tag-2/
LOCATION:Infos folgen\, Schweiz
CATEGORIES:Meute Atlas,Trupp Titan
END:VEVENT
END:VCALENDAR